Package: rWikiPathways Version: 1.30.0 Command: rm -rf rWikiPathways.buildbin-libdir && mkdir rWikiPathways.buildbin-libdir && /Users/biocbuild/BBS/utils/build-universal.sh rWikiPathways_1.30.0.tar.gz /Library/Frameworks/R.framework/Resources/bin/R rWikiPathways.buildbin-libdir StartedAt: 2025-11-10 23:34:55 -0500 (Mon, 10 Nov 2025) EndedAt: 2025-11-10 23:34:59 -0500 (Mon, 10 Nov 2025) EllapsedTime: 3.1 seconds RetCode: 0 Status: OK PackageFile: rWikiPathways_1.30.0.tgz PackageFileSize: 2.875 MiB