Package: rTRMui Version: 1.48.0 Command: /home/biocbuild/bbs-3.22-bioc/R/bin/R CMD INSTALL rTRMui StartedAt: 2025-11-11 16:06:11 -0500 (Tue, 11 Nov 2025) EndedAt: 2025-11-11 16:07:00 -0500 (Tue, 11 Nov 2025) EllapsedTime: 48.9 seconds RetCode: 0 Status: OK