Package: rTRMui Version: 1.48.0 Command: /Library/Frameworks/R.framework/Resources/bin/R CMD INSTALL rTRMui StartedAt: 2025-11-03 15:32:30 -0500 (Mon, 03 Nov 2025) EndedAt: 2025-11-03 15:32:49 -0500 (Mon, 03 Nov 2025) EllapsedTime: 19.5 seconds RetCode: 0 Status: OK