Package: rTRMui Version: 1.48.0 Command: /Library/Frameworks/R.framework/Resources/bin/R CMD build --keep-empty-dirs --no-resave-data rTRMui StartedAt: 2025-11-02 17:34:50 -0500 (Sun, 02 Nov 2025) EndedAt: 2025-11-02 17:35:19 -0500 (Sun, 02 Nov 2025) EllapsedTime: 29.3 seconds RetCode: 0 Status: OK PackageFile: rTRMui_1.48.0.tar.gz PackageFileSize: 1.11 MiB