Package: rTRM Version: 1.48.0 Command: /Library/Frameworks/R.framework/Resources/bin/R CMD INSTALL rTRM StartedAt: 2025-11-03 15:24:24 -0500 (Mon, 03 Nov 2025) EndedAt: 2025-11-03 15:24:45 -0500 (Mon, 03 Nov 2025) EllapsedTime: 21.3 seconds RetCode: 0 Status: OK