Package: rTRM Version: 1.48.0 Command: rm -rf rTRM.buildbin-libdir && mkdir rTRM.buildbin-libdir && /Users/biocbuild/BBS/utils/build-universal.sh rTRM_1.48.0.tar.gz /Library/Frameworks/R.framework/Resources/bin/R rTRM.buildbin-libdir StartedAt: 2025-11-04 02:01:12 -0500 (Tue, 04 Nov 2025) EndedAt: 2025-11-04 02:01:37 -0500 (Tue, 04 Nov 2025) EllapsedTime: 25.4 seconds RetCode: 0 Status: OK PackageFile: rTRM_1.48.0.tgz PackageFileSize: 3.507 MiB