Package: rTRM Version: 1.48.0 Command: /Library/Frameworks/R.framework/Resources/bin/R CMD INSTALL rTRM StartedAt: 2025-10-31 15:12:39 -0400 (Fri, 31 Oct 2025) EndedAt: 2025-10-31 15:12:46 -0400 (Fri, 31 Oct 2025) EllapsedTime: 6.6 seconds RetCode: 0 Status: OK