Package: rScudo Version: 1.26.0 Command: /home/biocbuild/bbs-3.22-bioc/R/bin/R CMD build --keep-empty-dirs --no-resave-data --md5 rScudo StartedAt: 2025-11-11 19:52:30 -0500 (Tue, 11 Nov 2025) EndedAt: 2025-11-11 19:54:02 -0500 (Tue, 11 Nov 2025) EllapsedTime: 92.1 seconds RetCode: 0 Status: OK PackageFile: rScudo_1.26.0.tar.gz PackageFileSize: 849.1 KiB