Package: rSWeeP Version: 1.22.0 Command: /home/biocbuild/bbs-3.22-bioc/R/bin/R CMD build --keep-empty-dirs --no-resave-data --md5 rSWeeP StartedAt: 2025-11-11 19:52:57 -0500 (Tue, 11 Nov 2025) EndedAt: 2025-11-11 19:53:20 -0500 (Tue, 11 Nov 2025) EllapsedTime: 23.0 seconds RetCode: 0 Status: OK PackageFile: rSWeeP_1.22.0.tar.gz PackageFileSize: 420.9 KiB