Package: rSWeeP Version: 1.22.0 Command: /Library/Frameworks/R.framework/Resources/bin/R CMD build --keep-empty-dirs --no-resave-data rSWeeP StartedAt: 2025-11-02 17:34:25 -0500 (Sun, 02 Nov 2025) EndedAt: 2025-11-02 17:34:35 -0500 (Sun, 02 Nov 2025) EllapsedTime: 10.1 seconds RetCode: 0 Status: OK PackageFile: rSWeeP_1.22.0.tar.gz PackageFileSize: 360 KiB