Package: rSWeeP Version: 1.22.0 Command: rm -rf rSWeeP.buildbin-libdir && mkdir rSWeeP.buildbin-libdir && /Users/biocbuild/BBS/utils/build-universal.sh rSWeeP_1.22.0.tar.gz /Library/Frameworks/R.framework/Resources/bin/R rSWeeP.buildbin-libdir StartedAt: 2025-11-02 23:19:31 -0500 (Sun, 02 Nov 2025) EndedAt: 2025-11-02 23:19:36 -0500 (Sun, 02 Nov 2025) EllapsedTime: 5.1 seconds RetCode: 0 Status: OK PackageFile: rSWeeP_1.22.0.tgz PackageFileSize: 462.2 KiB