Package: rRDP Version: 1.44.0 Command: /home/biocbuild/bbs-3.22-bioc/R/bin/R CMD check --install=check:rRDP.install-out.txt --library=/home/biocbuild/bbs-3.22-bioc/R/site-library --timings rRDP_1.44.0.tar.gz StartedAt: 2025-11-12 03:34:07 -0500 (Wed, 12 Nov 2025) EndedAt: 2025-11-12 03:35:40 -0500 (Wed, 12 Nov 2025) EllapsedTime: 93.1 seconds RetCode: 0 Status: OK CheckDir: rRDP.Rcheck Warnings: 0