Package: rRDP Version: 1.44.0 Command: /home/biocbuild/bbs-3.22-bioc/R/bin/R CMD build --keep-empty-dirs --no-resave-data --md5 rRDP StartedAt: 2025-11-11 19:52:22 -0500 (Tue, 11 Nov 2025) EndedAt: 2025-11-11 19:52:44 -0500 (Tue, 11 Nov 2025) EllapsedTime: 22.0 seconds RetCode: 0 Status: OK PackageFile: rRDP_1.44.0.tar.gz PackageFileSize: 2.595 MiB