Package: rRDP Version: 1.42.0 Command: /home/biocbuild/bbs-3.21-bioc/R/bin/R CMD INSTALL rRDP StartedAt: 2025-10-15 15:14:25 -0400 (Wed, 15 Oct 2025) EndedAt: 2025-10-15 15:14:35 -0400 (Wed, 15 Oct 2025) EllapsedTime: 9.8 seconds RetCode: 0 Status: OK