Package: rRDP Version: 1.44.0 Command: /Library/Frameworks/R.framework/Resources/bin/R CMD INSTALL rRDP StartedAt: 2025-11-03 15:22:17 -0500 (Mon, 03 Nov 2025) EndedAt: 2025-11-03 15:22:32 -0500 (Mon, 03 Nov 2025) EllapsedTime: 15.0 seconds RetCode: 0 Status: OK