Package: rRDP Version: 1.44.0 Command: /Library/Frameworks/R.framework/Resources/bin/R CMD build --keep-empty-dirs --no-resave-data rRDP StartedAt: 2025-11-03 18:32:56 -0500 (Mon, 03 Nov 2025) EndedAt: 2025-11-03 18:33:25 -0500 (Mon, 03 Nov 2025) EllapsedTime: 28.5 seconds RetCode: 0 Status: OK PackageFile: rRDP_1.44.0.tar.gz PackageFileSize: 2.594 MiB