Package: rRDP Version: 1.42.0 Command: /Library/Frameworks/R.framework/Resources/bin/R CMD build --keep-empty-dirs --no-resave-data rRDP StartedAt: 2025-10-14 08:10:59 -0400 (Tue, 14 Oct 2025) EndedAt: 2025-10-14 08:11:30 -0400 (Tue, 14 Oct 2025) EllapsedTime: 31.0 seconds RetCode: 0 Status: OK PackageFile: rRDP_1.42.0.tar.gz PackageFileSize: 2.594 MiB