Package: rRDP Version: 1.44.0 Maintainer: Michael Hahsler MaintainerEmail: mhahsler at lyle.smu.edu git_url: https://git.bioconductor.org/packages/rRDP git_branch: RELEASE_3_22 git_last_commit: 1dbe2d8 git_last_commit_date: 2025-10-29 10:21:41 -0400 (Wed, 29 Oct 2025)