Package: rGenomeTracks Version: 1.16.0 Command: /Library/Frameworks/R.framework/Resources/bin/R CMD build --keep-empty-dirs --no-resave-data rGenomeTracks StartedAt: 2025-11-03 18:27:16 -0500 (Mon, 03 Nov 2025) EndedAt: 2025-11-03 18:27:35 -0500 (Mon, 03 Nov 2025) EllapsedTime: 19.3 seconds RetCode: 0 Status: OK PackageFile: rGenomeTracks_1.16.0.tar.gz PackageFileSize: 3.345 MiB