Package: rGenomeTracks Version: 1.14.0 Command: /home/biocbuild/R/R/bin/R CMD INSTALL rGenomeTracks StartedAt: 2025-10-13 20:39:53 -0000 (Mon, 13 Oct 2025) EndedAt: 2025-10-13 20:40:01 -0000 (Mon, 13 Oct 2025) EllapsedTime: 8.6 seconds RetCode: 0 Status: OK