Package: rGREAT Version: 2.12.1 Command: /home/biocbuild/bbs-3.22-bioc/R/bin/R CMD INSTALL rGREAT StartedAt: 2025-11-11 16:04:24 -0500 (Tue, 11 Nov 2025) EndedAt: 2025-11-11 16:05:11 -0500 (Tue, 11 Nov 2025) EllapsedTime: 47.6 seconds RetCode: 0 Status: OK