Package: rGREAT Version: 2.10.0 Command: /home/biocbuild/bbs-3.21-bioc/R/bin/R CMD INSTALL rGREAT StartedAt: 2025-10-15 15:58:28 -0400 (Wed, 15 Oct 2025) EndedAt: 2025-10-15 15:59:14 -0400 (Wed, 15 Oct 2025) EllapsedTime: 46.7 seconds RetCode: 0 Status: OK