Package: rGREAT Version: 2.10.0 Command: /home/biocbuild/bbs-3.21-bioc/R/bin/R CMD build --keep-empty-dirs --no-resave-data rGREAT StartedAt: 2025-10-15 19:27:53 -0400 (Wed, 15 Oct 2025) EndedAt: 2025-10-15 19:28:40 -0400 (Wed, 15 Oct 2025) EllapsedTime: 47.0 seconds RetCode: 0 Status: OK PackageFile: rGREAT_2.10.0.tar.gz PackageFileSize: 2.754 MiB