Package: rGREAT Version: 2.12.0 Command: /Library/Frameworks/R.framework/Resources/bin/R CMD INSTALL rGREAT StartedAt: 2025-11-03 15:52:42 -0500 (Mon, 03 Nov 2025) EndedAt: 2025-11-03 15:53:44 -0500 (Mon, 03 Nov 2025) EllapsedTime: 62.2 seconds RetCode: 0 Status: OK