Package: rGREAT Version: 2.12.0 Command: /Library/Frameworks/R.framework/Resources/bin/R CMD build --keep-empty-dirs --no-resave-data rGREAT StartedAt: 2025-11-03 18:27:40 -0500 (Mon, 03 Nov 2025) EndedAt: 2025-11-03 18:28:36 -0500 (Mon, 03 Nov 2025) EllapsedTime: 55.8 seconds RetCode: 0 Status: OK PackageFile: rGREAT_2.12.0.tar.gz PackageFileSize: 2.754 MiB