Package: rGREAT Version: 2.12.0 Command: rm -rf rGREAT.buildbin-libdir && mkdir rGREAT.buildbin-libdir && /Users/biocbuild/BBS/utils/build-universal.sh rGREAT_2.12.0.tar.gz /Library/Frameworks/R.framework/Resources/bin/R rGREAT.buildbin-libdir StartedAt: 2025-11-04 01:59:12 -0500 (Tue, 04 Nov 2025) EndedAt: 2025-11-04 02:00:21 -0500 (Tue, 04 Nov 2025) EllapsedTime: 69.1 seconds RetCode: 0 Status: OK PackageFile: rGREAT_2.12.0.tgz PackageFileSize: 3.43 MiB