Package: rGREAT Version: 2.10.0 Command: /home/biocbuild/R/R/bin/R CMD INSTALL rGREAT StartedAt: 2025-10-09 21:17:41 -0000 (Thu, 09 Oct 2025) EndedAt: 2025-10-09 21:18:47 -0000 (Thu, 09 Oct 2025) EllapsedTime: 65.6 seconds RetCode: 0 Status: OK