Package: rGREAT Version: 2.10.0 Command: /home/biocbuild/R/R/bin/R CMD build --keep-empty-dirs --no-resave-data rGREAT StartedAt: 2025-10-10 03:55:58 -0000 (Fri, 10 Oct 2025) EndedAt: 2025-10-10 03:57:04 -0000 (Fri, 10 Oct 2025) EllapsedTime: 66.0 seconds RetCode: 0 Status: OK PackageFile: rGREAT_2.10.0.tar.gz PackageFileSize: 2.754 MiB