Package: rGREAT Version: 2.10.0 Command: rm -rf rGREAT.buildbin-libdir && mkdir rGREAT.buildbin-libdir && /Users/biocbuild/BBS/utils/build-universal.sh rGREAT_2.10.0.tar.gz /Library/Frameworks/R.framework/Resources/bin/R rGREAT.buildbin-libdir StartedAt: 2025-04-21 22:48:44 -0400 (Mon, 21 Apr 2025) EndedAt: 2025-04-21 22:49:05 -0400 (Mon, 21 Apr 2025) EllapsedTime: 20.3 seconds RetCode: 0 Status: OK PackageFile: rGREAT_2.10.0.tgz PackageFileSize: 3.431 MiB