Package: rGADEM Version: 2.58.0 Command: /home/biocbuild/bbs-3.22-bioc/R/bin/R CMD INSTALL rGADEM StartedAt: 2025-11-11 15:32:11 -0500 (Tue, 11 Nov 2025) EndedAt: 2025-11-11 15:32:15 -0500 (Tue, 11 Nov 2025) EllapsedTime: 4.7 seconds RetCode: 1 Status: ERROR