Package: rGADEM Version: 2.58.0 Command: /Library/Frameworks/R.framework/Resources/bin/R CMD INSTALL rGADEM StartedAt: 2025-11-03 15:35:30 -0500 (Mon, 03 Nov 2025) EndedAt: 2025-11-03 15:36:36 -0500 (Mon, 03 Nov 2025) EllapsedTime: 66.2 seconds RetCode: 0 Status: OK