Package: rGADEM Version: 2.58.0 Command: /Library/Frameworks/R.framework/Resources/bin/R CMD build --keep-empty-dirs --no-resave-data rGADEM StartedAt: 2025-11-03 18:27:15 -0500 (Mon, 03 Nov 2025) EndedAt: 2025-11-03 18:28:38 -0500 (Mon, 03 Nov 2025) EllapsedTime: 83.1 seconds RetCode: 0 Status: OK PackageFile: rGADEM_2.58.0.tar.gz PackageFileSize: 377.1 KiB