Package: rGADEM Version: 2.56.0 Command: /home/biocbuild/R/R/bin/R CMD INSTALL rGADEM StartedAt: 2025-10-13 20:42:35 -0000 (Mon, 13 Oct 2025) EndedAt: 2025-10-13 20:42:42 -0000 (Mon, 13 Oct 2025) EllapsedTime: 7.2 seconds RetCode: 1 Status: ERROR