Package: rGADEM Version: 2.56.0 Command: /home/biocbuild/R/R/bin/R CMD build --keep-empty-dirs --no-resave-data rGADEM StartedAt: 2025-10-14 04:00:19 -0000 (Tue, 14 Oct 2025) EndedAt: 2025-10-14 04:00:26 -0000 (Tue, 14 Oct 2025) EllapsedTime: 7.0 seconds RetCode: 1 Status: ERROR PackageFile: None PackageFileSize: NA