Package: rCGH Version: 1.40.0 Command: /home/biocbuild/bbs-3.22-bioc/R/bin/R CMD build --keep-empty-dirs --no-resave-data --md5 rCGH StartedAt: 2025-11-13 19:38:03 -0500 (Thu, 13 Nov 2025) EndedAt: 2025-11-13 19:39:35 -0500 (Thu, 13 Nov 2025) EllapsedTime: 92.1 seconds RetCode: 0 Status: OK PackageFile: rCGH_1.40.0.tar.gz PackageFileSize: 4.036 MiB