Package: rCGH Version: 1.40.0 Command: /Library/Frameworks/R.framework/Resources/bin/R CMD INSTALL rCGH StartedAt: 2025-11-10 15:32:27 -0500 (Mon, 10 Nov 2025) EndedAt: 2025-11-10 15:32:45 -0500 (Mon, 10 Nov 2025) EllapsedTime: 17.9 seconds RetCode: 0 Status: OK