Package: rBLAST Version: 1.6.0 Command: /Library/Frameworks/R.framework/Resources/bin/R CMD INSTALL rBLAST StartedAt: 2025-11-10 15:08:18 -0500 (Mon, 10 Nov 2025) EndedAt: 2025-11-10 15:08:23 -0500 (Mon, 10 Nov 2025) EllapsedTime: 4.2 seconds RetCode: 0 Status: OK