Package: rBLAST Version: 1.6.0 Command: /Library/Frameworks/R.framework/Resources/bin/R CMD build --keep-empty-dirs --no-resave-data rBLAST StartedAt: 2025-11-10 17:27:39 -0500 (Mon, 10 Nov 2025) EndedAt: 2025-11-10 17:27:46 -0500 (Mon, 10 Nov 2025) EllapsedTime: 7.1 seconds RetCode: 0 Status: OK PackageFile: rBLAST_1.6.0.tar.gz PackageFileSize: 24.63 KiB