Package: rBLAST Version: 1.6.0 Command: rm -rf rBLAST.buildbin-libdir && mkdir rBLAST.buildbin-libdir && /Users/biocbuild/BBS/utils/build-universal.sh rBLAST_1.6.0.tar.gz /Library/Frameworks/R.framework/Resources/bin/R rBLAST.buildbin-libdir StartedAt: 2025-11-10 23:32:37 -0500 (Mon, 10 Nov 2025) EndedAt: 2025-11-10 23:32:41 -0500 (Mon, 10 Nov 2025) EllapsedTime: 4.1 seconds RetCode: 0 Status: OK PackageFile: rBLAST_1.6.0.tgz PackageFileSize: 49.35 KiB