Package: r3Cseq Version: 1.56.0 Command: /home/biocbuild/bbs-3.22-bioc/R/bin/R CMD INSTALL r3Cseq StartedAt: 2025-11-13 15:31:59 -0500 (Thu, 13 Nov 2025) EndedAt: 2025-11-13 15:32:42 -0500 (Thu, 13 Nov 2025) EllapsedTime: 43.3 seconds RetCode: 0 Status: OK