Package: r3Cseq Version: 1.56.0 Command: /home/biocbuild/bbs-3.22-bioc/R/bin/R CMD check --install=check:r3Cseq.install-out.txt --library=/home/biocbuild/bbs-3.22-bioc/R/site-library --timings r3Cseq_1.56.0.tar.gz StartedAt: 2025-11-12 03:06:51 -0500 (Wed, 12 Nov 2025) EndedAt: 2025-11-12 03:12:39 -0500 (Wed, 12 Nov 2025) EllapsedTime: 347.5 seconds RetCode: 0 Status: OK CheckDir: r3Cseq.Rcheck Warnings: 0