Package: r3Cseq Version: 1.56.0 Command: /home/biocbuild/bbs-3.22-bioc/R/bin/R CMD build --keep-empty-dirs --no-resave-data --md5 r3Cseq StartedAt: 2025-11-13 19:34:11 -0500 (Thu, 13 Nov 2025) EndedAt: 2025-11-13 19:36:20 -0500 (Thu, 13 Nov 2025) EllapsedTime: 129.1 seconds RetCode: 0 Status: OK PackageFile: r3Cseq_1.56.0.tar.gz PackageFileSize: 4.33 MiB