Package: r3Cseq Version: 1.54.0 Command: /Library/Frameworks/R.framework/Resources/bin/R CMD INSTALL r3Cseq StartedAt: 2025-10-02 15:53:32 -0400 (Thu, 02 Oct 2025) EndedAt: 2025-10-02 15:55:05 -0400 (Thu, 02 Oct 2025) EllapsedTime: 93.6 seconds RetCode: 0 Status: OK