Package: r3Cseq Version: 1.54.0 Command: /Library/Frameworks/R.framework/Resources/bin/R CMD build --keep-empty-dirs --no-resave-data r3Cseq StartedAt: 2025-09-29 21:47:38 -0400 (Mon, 29 Sep 2025) EndedAt: 2025-09-29 21:51:25 -0400 (Mon, 29 Sep 2025) EllapsedTime: 227.1 seconds RetCode: 0 Status: OK PackageFile: r3Cseq_1.54.0.tar.gz PackageFileSize: 4.325 MiB