Package: r3Cseq Version: 1.54.0 Command: /Library/Frameworks/R.framework/Resources/bin/R CMD INSTALL r3Cseq StartedAt: 2025-09-25 16:46:48 -0400 (Thu, 25 Sep 2025) EndedAt: 2025-09-25 16:47:39 -0400 (Thu, 25 Sep 2025) EllapsedTime: 50.3 seconds RetCode: 0 Status: OK