Package: qvalue Version: 2.42.0 Command: /home/biocbuild/bbs-3.22-bioc/R/bin/R CMD INSTALL qvalue StartedAt: 2025-11-11 15:11:49 -0500 (Tue, 11 Nov 2025) EndedAt: 2025-11-11 15:12:01 -0500 (Tue, 11 Nov 2025) EllapsedTime: 12.2 seconds RetCode: 0 Status: OK