Package: qvalue Version: 2.42.0 Command: /home/biocbuild/bbs-3.22-bioc/R/bin/R CMD check --install=check:qvalue.install-out.txt --library=/home/biocbuild/bbs-3.22-bioc/R/site-library --timings qvalue_2.42.0.tar.gz StartedAt: 2025-11-14 03:08:39 -0500 (Fri, 14 Nov 2025) EndedAt: 2025-11-14 03:09:32 -0500 (Fri, 14 Nov 2025) EllapsedTime: 53.1 seconds RetCode: 0 Status: OK CheckDir: qvalue.Rcheck Warnings: 0