Package: qvalue Version: 2.40.0 Command: /home/biocbuild/bbs-3.21-bioc/R/bin/R CMD INSTALL qvalue StartedAt: 2025-10-15 15:07:08 -0400 (Wed, 15 Oct 2025) EndedAt: 2025-10-15 15:07:20 -0400 (Wed, 15 Oct 2025) EllapsedTime: 11.6 seconds RetCode: 0 Status: OK