Package: qvalue Version: 2.40.0 Command: /home/biocbuild/bbs-3.21-bioc/R/bin/R CMD build --keep-empty-dirs --no-resave-data qvalue StartedAt: 2025-10-15 19:18:57 -0400 (Wed, 15 Oct 2025) EndedAt: 2025-10-15 19:19:10 -0400 (Wed, 15 Oct 2025) EllapsedTime: 13.0 seconds RetCode: 0 Status: OK PackageFile: qvalue_2.40.0.tar.gz PackageFileSize: 2.645 MiB