Package: qvalue Version: 2.40.0 Command: /Library/Frameworks/R.framework/Resources/bin/R CMD INSTALL qvalue StartedAt: 2025-04-21 15:08:14 -0400 (Mon, 21 Apr 2025) EndedAt: 2025-04-21 15:08:53 -0400 (Mon, 21 Apr 2025) EllapsedTime: 38.9 seconds RetCode: 0 Status: OK